BEGIN:VCALENDAR
VERSION:2.0
PRODID:-//https://www.olvestonparishhall.co.uk//NONSGML kigkonsult.se iCalc
 reator 2.29.29//
CALSCALE:GREGORIAN
METHOD:PUBLISH
UID:51f2cbf7-9c29-4712-ad2d-1377d4464f4c
X-WR-CALNAME:JCal Pro Calendar
X-WR-CALDESC:Your online events calendar
X-WR-TIMEZONE:Europe/London
BEGIN:VTIMEZONE
TZID:Europe/London
BEGIN:STANDARD
TZNAME:GMT
DTSTART:20251026T020000
TZOFFSETFROM:+0100
TZOFFSETTO:+0000
RDATE:20261025T020000
END:STANDARD
BEGIN:DAYLIGHT
TZNAME:BST
DTSTART:20260329T010000
TZOFFSETFROM:+0000
TZOFFSETTO:+0100
RDATE:20270328T010000
END:DAYLIGHT
END:VTIMEZONE
BEGIN:VEVENT
UID:20140326T180000UTC-372fb5@http://www.olvestonparishhall.co.uk/
DTSTAMP:20260419T181111Z
CATEGORIES:Public Event
DESCRIPTION:<p>Action Medical Research is holding a 'chicago' sytle bridge 
 competition on the 26th March\, commencing at 2 p.m. sharp. &nbsp\; Ticket
 s cost ??10\, which includes afternoon tea. &nbsp\; Tickets are available 
 from Richard Harrop who can be contacted on 07770 687 281 or at <span id='
 cloak51f437b4bc1f75ff842032a76a418c60'>This email address is being protect
 ed from spambots. You need JavaScript enabled to view it.</span><script ty
 pe='text/javascript'>\n				document.getElementById('cloak51f437b4bc1f75ff84203
 2a76a418c60').innerHTML = ''\;\n				var prefix = '&#109\;a' + 'i&#108\;' + '&#
 116\;o'\;\n				var path = 'hr' + 'ef' + '='\;\n				var addy51f437b4bc1f75ff842032a
 76a418c60 = 'h&#97\;rr&#111\;psh&#97\;z&#101\;lh&#111\;&#117\;s&#101\;' + 
 '&#64\;'\;\n				addy51f437b4bc1f75ff842032a76a418c60 = addy51f437b4bc1f75ff842
 032a76a418c60 + 'gm&#97\;&#105\;l' + '&#46\;' + 'c&#111\;m'\;\n				var addy_te
 xt51f437b4bc1f75ff842032a76a418c60 = 'h&#97\;rr&#111\;psh&#97\;z&#101\;lh&
 #111\;&#117\;s&#101\;' + '&#64\;' + 'gm&#97\;&#105\;l' + '&#46\;' + 'c&#11
 1\;m'\;document.getElementById('cloak51f437b4bc1f75ff842032a76a418c60').in
 nerHTML += '<a ' + path + '\'' + prefix + ':' + addy51f437b4bc1f75ff842032
 a76a418c60 + '\'>'+addy_text51f437b4bc1f75ff842032a76a418c60+'<\/a>'\;\n		</
 script> &nbsp\;</p>
DTSTART;TZID=Europe/London:20140326T190000
DTEND;TZID=Europe/London:20140327T000000
SUMMARY:Charity bridge competition
URL:https://www.olvestonparishhall.co.uk/index.php/add-new-event/34-public-
 event/1067-charity-bridge-competition
X-ALT-DESC;FMTTYPE=TEXT/HTML:<p>Action Medical Research is holding a 'chica
 go' sytle bridge competition on the 26th March\, commencing at 2 p.m. shar
 p. &nbsp\; Tickets cost ??10\, which includes afternoon tea. &nbsp\; Ticke
 ts are available from Richard Harrop who can be contacted on 07770 687 281
  or at <span id='cloak51f437b4bc1f75ff842032a76a418c60'>This email address
  is being protected from spambots. You need JavaScript enabled to view it.
 </span><script type='text/javascript'>\n				document.getElementById('cloak51f4
 37b4bc1f75ff842032a76a418c60').innerHTML = ''\;\n				var prefix = '&#109\;a' +
  'i&#108\;' + '&#116\;o'\;\n				var path = 'hr' + 'ef' + '='\;\n				var addy51f437
 b4bc1f75ff842032a76a418c60 = 'h&#97\;rr&#111\;psh&#97\;z&#101\;lh&#111\;&#
 117\;s&#101\;' + '&#64\;'\;\n				addy51f437b4bc1f75ff842032a76a418c60 = addy51
 f437b4bc1f75ff842032a76a418c60 + 'gm&#97\;&#105\;l' + '&#46\;' + 'c&#111\;
 m'\;\n				var addy_text51f437b4bc1f75ff842032a76a418c60 = 'h&#97\;rr&#111\;psh
 &#97\;z&#101\;lh&#111\;&#117\;s&#101\;' + '&#64\;' + 'gm&#97\;&#105\;l' + 
 '&#46\;' + 'c&#111\;m'\;document.getElementById('cloak51f437b4bc1f75ff8420
 32a76a418c60').innerHTML += '<a ' + path + '\'' + prefix + ':' + addy51f43
 7b4bc1f75ff842032a76a418c60 + '\'>'+addy_text51f437b4bc1f75ff842032a76a418
 c60+'<\/a>'\;\n		</script> &nbsp\;</p>
END:VEVENT
END:VCALENDAR
