BEGIN:VCALENDAR
VERSION:2.0
PRODID:-//https://www.olvestonparishhall.co.uk//NONSGML kigkonsult.se iCalc
 reator 2.29.29//
CALSCALE:GREGORIAN
METHOD:PUBLISH
UID:8def8e9b-3d2e-430b-ac47-b5ab9a746262
X-WR-CALNAME:JCal Pro Calendar
X-WR-CALDESC:Your online events calendar
X-WR-TIMEZONE:Europe/London
BEGIN:VTIMEZONE
TZID:Europe/London
BEGIN:STANDARD
TZNAME:GMT
DTSTART:20251026T020000
TZOFFSETFROM:+0100
TZOFFSETTO:+0000
RDATE:20261025T020000
END:STANDARD
BEGIN:DAYLIGHT
TZNAME:BST
DTSTART:20260329T010000
TZOFFSETFROM:+0000
TZOFFSETTO:+0100
RDATE:20270328T010000
END:DAYLIGHT
END:VTIMEZONE
BEGIN:VEVENT
UID:20220603T160000BST-0996BvuTtG@https://www.olvestonparishhall.co.uk/
DTSTAMP:20260423T151225Z
CATEGORIES:Public Event
DESCRIPTION:<p>Reservation of the hall from evening of Friday 3rd June to e
 nd of Saturday 4th June for potential Queen's Platinum Jubilee Celebration
  events.</p>
DTSTART;TZID=Europe/London:20220603T080000
DTEND;TZID=Europe/London:20220604T160000
SUMMARY:Queen's Platinum Jubilee Celebration
URL:https://www.olvestonparishhall.co.uk/index.php/add-new-event/34-public-
 event/12990-queen-s-platinum-jubilee-celebration
X-ALT-DESC;FMTTYPE=TEXT/HTML:<p>Reservation of the hall from evening of Fri
 day 3rd June to end of Saturday 4th June for potential Queen's Platinum Ju
 bilee Celebration events.</p>
END:VEVENT
END:VCALENDAR
