BEGIN:VCALENDAR
VERSION:2.0
PRODID:-//https://www.olvestonparishhall.co.uk//NONSGML kigkonsult.se iCalc
 reator 2.29.29//
CALSCALE:GREGORIAN
METHOD:PUBLISH
UID:32037b1d-a5d7-4168-aa2c-13684673df4f
X-WR-CALNAME:JCal Pro Calendar
X-WR-CALDESC:Your online events calendar
X-WR-TIMEZONE:Europe/London
BEGIN:VTIMEZONE
TZID:Europe/London
BEGIN:STANDARD
TZNAME:GMT
DTSTART:20251026T020000
TZOFFSETFROM:+0100
TZOFFSETTO:+0000
RDATE:20261025T020000
END:STANDARD
BEGIN:DAYLIGHT
TZNAME:BST
DTSTART:20260329T010000
TZOFFSETFROM:+0000
TZOFFSETTO:+0100
RDATE:20270328T010000
END:DAYLIGHT
END:VTIMEZONE
BEGIN:VEVENT
UID:20220515T110000BST-5489fuk0h3@https://www.olvestonparishhall.co.uk/
DTSTAMP:20260422T141116Z
CATEGORIES:Public Event
DTSTART;TZID=Europe/London:20220515T110000
DTEND;TZID=Europe/London:20220515T170000
SUMMARY:Christening
URL:https://www.olvestonparishhall.co.uk/index.php/add-new-event/34-public-
 event/13343-christening
END:VEVENT
END:VCALENDAR
