BEGIN:VCALENDAR
VERSION:2.0
PRODID:-//https://www.olvestonparishhall.co.uk//NONSGML kigkonsult.se iCalc
 reator 2.29.29//
CALSCALE:GREGORIAN
METHOD:PUBLISH
UID:9ebce7e9-bcc5-4e49-8fec-d1d79e2b2110
X-WR-CALNAME:JCal Pro Calendar
X-WR-CALDESC:Your online events calendar
X-WR-TIMEZONE:Europe/London
BEGIN:VTIMEZONE
TZID:Europe/London
BEGIN:STANDARD
TZNAME:GMT
DTSTART:20251026T020000
TZOFFSETFROM:+0100
TZOFFSETTO:+0000
RDATE:20261025T020000
END:STANDARD
BEGIN:DAYLIGHT
TZNAME:BST
DTSTART:20260329T010000
TZOFFSETFROM:+0000
TZOFFSETTO:+0100
RDATE:20270328T010000
END:DAYLIGHT
END:VTIMEZONE
BEGIN:VEVENT
UID:20220505T193000BST-3430U0xgK8@https://www.olvestonparishhall.co.uk/
DTSTAMP:20260422T143045Z
CATEGORIES:Public Event
DESCRIPTION:<p>Olveston &amp\; Tockington Parish Hall AGM</p>
DTSTART;TZID=Europe/London:20220505T194500
DTEND;TZID=Europe/London:20220505T221500
SUMMARY:Olveston & Tockington Parish Hall AGM
URL:https://www.olvestonparishhall.co.uk/index.php/add-new-event/34-public-
 event/14817-olveston-tockington-parish-hall-agm
X-ALT-DESC;FMTTYPE=TEXT/HTML:<p>Olveston &amp\; Tockington Parish Hall AGM<
 /p>
END:VEVENT
END:VCALENDAR
