BEGIN:VCALENDAR
VERSION:2.0
PRODID:-//https://www.olvestonparishhall.co.uk//NONSGML kigkonsult.se iCalc
 reator 2.29.29//
CALSCALE:GREGORIAN
METHOD:PUBLISH
UID:9ec22a65-9c4f-416e-8788-31e3561a0fc7
X-WR-CALNAME:JCal Pro Calendar
X-WR-CALDESC:Your online events calendar
X-WR-TIMEZONE:Europe/London
BEGIN:VTIMEZONE
TZID:Europe/London
BEGIN:STANDARD
TZNAME:GMT
DTSTART:20251026T020000
TZOFFSETFROM:+0100
TZOFFSETTO:+0000
RDATE:20261025T020000
END:STANDARD
BEGIN:DAYLIGHT
TZNAME:BST
DTSTART:20260329T010000
TZOFFSETFROM:+0000
TZOFFSETTO:+0100
RDATE:20270328T010000
END:DAYLIGHT
END:VTIMEZONE
BEGIN:VEVENT
UID:20240903T190000BST-5821ewL6k3@https://www.olvestonparishhall.co.uk/
DTSTAMP:20260420T091612Z
CATEGORIES:Public Event
DTSTART;TZID=Europe/London:20240903T190000
DTEND;TZID=Europe/London:20240903T213000
SUMMARY:Parish Hall AGM
URL:https://www.olvestonparishhall.co.uk/index.php/add-new-event/34-public-
 event/19207-parish-hall-agm
END:VEVENT
END:VCALENDAR
