BEGIN:VCALENDAR
VERSION:2.0
PRODID:-//https://www.olvestonparishhall.co.uk//NONSGML kigkonsult.se iCalc
 reator 2.29.29//
CALSCALE:GREGORIAN
METHOD:PUBLISH
UID:d89a1bdd-0ab2-408d-8822-7d99964da3fa
X-WR-CALNAME:JCal Pro Calendar
X-WR-CALDESC:Your online events calendar
X-WR-TIMEZONE:Europe/London
BEGIN:VTIMEZONE
TZID:Europe/London
BEGIN:STANDARD
TZNAME:GMT
DTSTART:20251026T020000
TZOFFSETFROM:+0100
TZOFFSETTO:+0000
RDATE:20261025T020000
END:STANDARD
BEGIN:DAYLIGHT
TZNAME:BST
DTSTART:20260329T010000
TZOFFSETFROM:+0000
TZOFFSETTO:+0100
RDATE:20270328T010000
END:DAYLIGHT
END:VTIMEZONE
BEGIN:VEVENT
UID:20160907T140000UTC-33a57e@http://www.olvestonparishhall.co.uk/
DTSTAMP:20260419T164315Z
CATEGORIES:Public Event
DESCRIPTION:<p>Zumba fitness will Recommence in the Autumn</p>\n<p>&nbsp\;<
 /p>\n<p>&nbsp\;</p>\n<p>Contact Diesel for more details on 07437680108</p>
DTSTART;TZID=Europe/London:20170308T160000
DTEND;TZID=Europe/London:20170308T170000
SUMMARY:ZUMBA fitness - Cancelled
URL:https://www.olvestonparishhall.co.uk/index.php/add-new-event/34-public-
 event/4017-zumba-fitness
X-ALT-DESC;FMTTYPE=TEXT/HTML:<p>Zumba fitness will Recommence in the Autumn
 </p>\n<p>&nbsp\;</p>\n<p>&nbsp\;</p>\n<p>Contact Diesel for more details o
 n 07437680108</p>
END:VEVENT
END:VCALENDAR
