BEGIN:VCALENDAR
VERSION:2.0
PRODID:-//https://www.olvestonparishhall.co.uk//NONSGML kigkonsult.se iCalc
 reator 2.29.29//
CALSCALE:GREGORIAN
METHOD:PUBLISH
UID:4d0fa31f-81a3-4b82-8b92-95e1e2d4aa75
X-WR-CALNAME:JCal Pro Calendar
X-WR-CALDESC:Your online events calendar
X-WR-TIMEZONE:Europe/London
BEGIN:VTIMEZONE
TZID:Europe/London
BEGIN:STANDARD
TZNAME:GMT
DTSTART:20251026T020000
TZOFFSETFROM:+0100
TZOFFSETTO:+0000
RDATE:20261025T020000
END:STANDARD
BEGIN:DAYLIGHT
TZNAME:BST
DTSTART:20260329T010000
TZOFFSETFROM:+0000
TZOFFSETTO:+0100
RDATE:20270328T010000
END:DAYLIGHT
END:VTIMEZONE
BEGIN:VEVENT
UID:20180110T093000UTC-34b23b@http://www.olvestonparishhall.co.uk/
DTSTAMP:20260419T150934Z
CATEGORIES:Public Event
DESCRIPTION:<p>Contact Jo McMeechan</p>\n<p><span style='color: #212121\; f
 ont-family: wf_segoe-ui_normal\, 'Segoe UI'\, 'Segoe WP'\, Tahoma\, Arial\
 , sans-serif\, serif\, EmojiFont\; font-size: 15px\; background-color: #ff
 ffff\;'>'A gentle and invigorating Pilates&nbsp\;class run by a qualified 
 Physiotherapist. Ideal for those looking&nbsp\;to condition\, stabilise an
 d retrain the core\, enhancing fitness and wellbeing. ??6 for pay as you g
 o classes or purchase a Class Pass at ??30 for&nbsp\;6 classes.'</span></p
 >\n<div style='color: #212121\; font-family: wf_segoe-ui_normal\, 'Segoe U
 I'\, 'Segoe WP'\, Tahoma\, Arial\, sans-serif\, serif\, EmojiFont\; font-s
 ize: 15px\; background-color: #ffffff\;' dir='auto'>Email&nbsp\;<span id='
 cloakc2da2daae4d00fe3be20c64580f262fa'>This email address is being protect
 ed from spambots. You need JavaScript enabled to view it.</span><script ty
 pe='text/javascript'>
				document.getElementById('cloakc2da2daae4d00fe3be20c64
 580f262fa').innerHTML = ''\;
				var prefix = '&#109\;a' + 'i&#108\;' + '&#116\
 ;o'\;
				var path = 'hr' + 'ef' + '='\;
				var addyc2da2daae4d00fe3be20c64580f262f
 a = 'jmphys&#105\;&#111\;.p&#105\;l&#97\;t&#101\;s' + '&#64\;'\;
				addyc2da2d
 aae4d00fe3be20c64580f262fa = addyc2da2daae4d00fe3be20c64580f262fa + 'gm&#9
 7\;&#105\;l' + '&#46\;' + 'c&#111\;m'\;
				var addy_textc2da2daae4d00fe3be20c6
 4580f262fa = '&nbsp\;'\;document.getElementById('cloakc2da2daae4d00fe3be20
 c64580f262fa').innerHTML += '<a ' + path + '\'' + prefix + ':' + addyc2da2
 daae4d00fe3be20c64580f262fa + '\' rel='noopener noreferrer' target='_blank
 ' data-auth='NotApplicable'>'+addy_textc2da2daae4d00fe3be20c64580f262fa+'<
 \/a>'\;
		</script><span id='cloakdd255036d775d3796907c8c347263e83'>This emai
 l address is being protected from spambots. You need JavaScript enabled to
  view it.</span><script type='text/javascript'>
				document.getElementById('cl
 oakdd255036d775d3796907c8c347263e83').innerHTML = ''\;
				var prefix = '&#109\
 ;a' + 'i&#108\;' + '&#116\;o'\;
				var path = 'hr' + 'ef' + '='\;
				var addydd255
 036d775d3796907c8c347263e83 = 'jmphys&#105\;&#111\;.p&#105\;l&#97\;t&#101\
 ;s' + '&#64\;'\;
				addydd255036d775d3796907c8c347263e83 = addydd255036d775d37
 96907c8c347263e83 + 'gm&#97\;&#105\;l' + '&#46\;' + 'c&#111\;m'\;
				var addy_
 textdd255036d775d3796907c8c347263e83 = 'jmphys&#105\;&#111\;.p&#105\;l&#97
 \;t&#101\;s' + '&#64\;' + 'gm&#97\;&#105\;l' + '&#46\;' + 'c&#111\;m'\;doc
 ument.getElementById('cloakdd255036d775d3796907c8c347263e83').innerHTML +=
  '<a ' + path + '\'' + prefix + ':' + addydd255036d775d3796907c8c347263e83
  + '\'>'+addy_textdd255036d775d3796907c8c347263e83+'<\/a>'\;
		</script></div
 >\n<p><span style='color: #212121\; font-family: wf_segoe-ui_normal\, 'Seg
 oe UI'\, 'Segoe WP'\, Tahoma\, Arial\, sans-serif\, serif\, EmojiFont\; fo
 nt-size: 15px\; background-color: #ffffff\;'>&nbsp\;</span></p>\n<div styl
 e='color: #212121\; font-family: wf_segoe-ui_normal\, 'Segoe UI'\, 'Segoe 
 WP'\, Tahoma\, Arial\, sans-serif\, serif\, EmojiFont\; font-size: 15px\; 
 background-color: #ffffff\;' dir='auto'>Tel 07427647997</div>\n<p><span st
 yle='color: #212121\; font-family: wf_segoe-ui_normal\, 'Segoe UI'\, 'Sego
 e WP'\, Tahoma\, Arial\, sans-serif\, serif\, EmojiFont\; font-size: 15px\
 ; background-color: #ffffff\;'>&nbsp\;</span></p>
DTSTART;TZID=Europe/London:20180110T103000
DTEND;TZID=Europe/London:20180110T123000
RRULE:FREQ=WEEKLY;COUNT=40;INTERVAL=1;BYDAY=WE
SUMMARY:Pilates
URL:https://www.olvestonparishhall.co.uk/index.php/add-new-event/34-public-
 event/5883-pilates
X-ALT-DESC;FMTTYPE=TEXT/HTML:<p>Contact Jo McMeechan</p>\n<p><span style='c
 olor: #212121\; font-family: wf_segoe-ui_normal\, 'Segoe UI'\, 'Segoe WP'\
 , Tahoma\, Arial\, sans-serif\, serif\, EmojiFont\; font-size: 15px\; back
 ground-color: #ffffff\;'>'A gentle and invigorating Pilates&nbsp\;class ru
 n by a qualified Physiotherapist. Ideal for those looking&nbsp\;to conditi
 on\, stabilise and retrain the core\, enhancing fitness and wellbeing. ??6
  for pay as you go classes or purchase a Class Pass at ??30 for&nbsp\;6 cl
 asses.'</span></p>\n<div style='color: #212121\; font-family: wf_segoe-ui_
 normal\, 'Segoe UI'\, 'Segoe WP'\, Tahoma\, Arial\, sans-serif\, serif\, E
 mojiFont\; font-size: 15px\; background-color: #ffffff\;' dir='auto'>Email
 &nbsp\;<span id='cloakc2da2daae4d00fe3be20c64580f262fa'>This email address
  is being protected from spambots. You need JavaScript enabled to view it.
 </span><script type='text/javascript'>
				document.getElementById('cloakc2da2d
 aae4d00fe3be20c64580f262fa').innerHTML = ''\;
				var prefix = '&#109\;a' + 'i&
 #108\;' + '&#116\;o'\;
				var path = 'hr' + 'ef' + '='\;
				var addyc2da2daae4d00f
 e3be20c64580f262fa = 'jmphys&#105\;&#111\;.p&#105\;l&#97\;t&#101\;s' + '&#
 64\;'\;
				addyc2da2daae4d00fe3be20c64580f262fa = addyc2da2daae4d00fe3be20c645
 80f262fa + 'gm&#97\;&#105\;l' + '&#46\;' + 'c&#111\;m'\;
				var addy_textc2da2
 daae4d00fe3be20c64580f262fa = '&nbsp\;'\;document.getElementById('cloakc2d
 a2daae4d00fe3be20c64580f262fa').innerHTML += '<a ' + path + '\'' + prefix 
 + ':' + addyc2da2daae4d00fe3be20c64580f262fa + '\' rel='noopener noreferre
 r' target='_blank' data-auth='NotApplicable'>'+addy_textc2da2daae4d00fe3be
 20c64580f262fa+'<\/a>'\;
		</script><span id='cloakdd255036d775d3796907c8c347
 263e83'>This email address is being protected from spambots. You need Java
 Script enabled to view it.</span><script type='text/javascript'>
				document.g
 etElementById('cloakdd255036d775d3796907c8c347263e83').innerHTML = ''\;
				var
  prefix = '&#109\;a' + 'i&#108\;' + '&#116\;o'\;
				var path = 'hr' + 'ef' + '
 ='\;
				var addydd255036d775d3796907c8c347263e83 = 'jmphys&#105\;&#111\;.p&#10
 5\;l&#97\;t&#101\;s' + '&#64\;'\;
				addydd255036d775d3796907c8c347263e83 = ad
 dydd255036d775d3796907c8c347263e83 + 'gm&#97\;&#105\;l' + '&#46\;' + 'c&#1
 11\;m'\;
				var addy_textdd255036d775d3796907c8c347263e83 = 'jmphys&#105\;&#11
 1\;.p&#105\;l&#97\;t&#101\;s' + '&#64\;' + 'gm&#97\;&#105\;l' + '&#46\;' +
  'c&#111\;m'\;document.getElementById('cloakdd255036d775d3796907c8c347263e
 83').innerHTML += '<a ' + path + '\'' + prefix + ':' + addydd255036d775d37
 96907c8c347263e83 + '\'>'+addy_textdd255036d775d3796907c8c347263e83+'<\/a>
 '\;
		</script></div>\n<p><span style='color: #212121\; font-family: wf_segoe
 -ui_normal\, 'Segoe UI'\, 'Segoe WP'\, Tahoma\, Arial\, sans-serif\, serif
 \, EmojiFont\; font-size: 15px\; background-color: #ffffff\;'>&nbsp\;</spa
 n></p>\n<div style='color: #212121\; font-family: wf_segoe-ui_normal\, 'Se
 goe UI'\, 'Segoe WP'\, Tahoma\, Arial\, sans-serif\, serif\, EmojiFont\; f
 ont-size: 15px\; background-color: #ffffff\;' dir='auto'>Tel 07427647997</
 div>\n<p><span style='color: #212121\; font-family: wf_segoe-ui_normal\, '
 Segoe UI'\, 'Segoe WP'\, Tahoma\, Arial\, sans-serif\, serif\, EmojiFont\;
  font-size: 15px\; background-color: #ffffff\;'>&nbsp\;</span></p>
END:VEVENT
END:VCALENDAR
