BEGIN:VCALENDAR
VERSION:2.0
PRODID:-//https://www.olvestonparishhall.co.uk//NONSGML kigkonsult.se iCalc
 reator 2.29.29//
CALSCALE:GREGORIAN
METHOD:PUBLISH
UID:4a39e7c3-178e-43d4-bc93-8ddd999e1483
X-WR-CALNAME:JCal Pro Calendar
X-WR-CALDESC:Your online events calendar
X-WR-TIMEZONE:Europe/London
BEGIN:VTIMEZONE
TZID:Europe/London
BEGIN:STANDARD
TZNAME:GMT
DTSTART:20251026T020000
TZOFFSETFROM:+0100
TZOFFSETTO:+0000
RDATE:20261025T020000
END:STANDARD
BEGIN:DAYLIGHT
TZNAME:BST
DTSTART:20260329T010000
TZOFFSETFROM:+0000
TZOFFSETTO:+0100
RDATE:20270328T010000
END:DAYLIGHT
END:VTIMEZONE
BEGIN:VEVENT
UID:20220521T093000BST-0093kXp0sK@https://www.olvestonparishhall.co.uk/
DTSTAMP:20260424T125754Z
CATEGORIES:Private Event
DESCRIPTION:<p>Family party</p>
DTSTART;TZID=Europe/London:20220521T163000
DTEND;TZID=Europe/London:20220521T223000
SUMMARY:Family Party
URL:https://www.olvestonparishhall.co.uk/index.php/add-new-event/35-private
 -event/14788-family-party
X-ALT-DESC;FMTTYPE=TEXT/HTML:<p>Family party</p>
END:VEVENT
END:VCALENDAR
