BEGIN:VCALENDAR
VERSION:2.0
PRODID:-//https://www.olvestonparishhall.co.uk//NONSGML kigkonsult.se iCalc
 reator 2.29.29//
CALSCALE:GREGORIAN
METHOD:PUBLISH
UID:c78ce48a-e358-4147-af1f-fa792a24cfa4
X-WR-CALNAME:JCal Pro Calendar
X-WR-CALDESC:Your online events calendar
X-WR-TIMEZONE:Europe/London
BEGIN:VTIMEZONE
TZID:Europe/London
BEGIN:STANDARD
TZNAME:GMT
DTSTART:20251026T020000
TZOFFSETFROM:+0100
TZOFFSETTO:+0000
RDATE:20261025T020000
END:STANDARD
BEGIN:DAYLIGHT
TZNAME:BST
DTSTART:20260329T010000
TZOFFSETFROM:+0000
TZOFFSETTO:+0100
RDATE:20270328T010000
END:DAYLIGHT
END:VTIMEZONE
BEGIN:VEVENT
UID:20220616T193000BST-4250tKrUaJ@https://www.olvestonparishhall.co.uk/
DTSTAMP:20260422T111515Z
CATEGORIES:Private Event
DESCRIPTION:<p>Small classical string music group of up to 15 players. Rehe
 arsal evening.</p>
DTSTART;TZID=Europe/London:20220616T193000
DTEND;TZID=Europe/London:20220616T220000
SUMMARY:Thornbury Chamber Players
URL:https://www.olvestonparishhall.co.uk/index.php/add-new-event/35-private
 -event/14831-thornbury-chamber-players
X-ALT-DESC;FMTTYPE=TEXT/HTML:<p>Small classical string music group of up to
  15 players. Rehearsal evening.</p>
END:VEVENT
END:VCALENDAR
