BEGIN:VCALENDAR
VERSION:2.0
PRODID:-//https://www.olvestonparishhall.co.uk//NONSGML kigkonsult.se iCalc
 reator 2.29.29//
CALSCALE:GREGORIAN
METHOD:PUBLISH
UID:a9dcce82-38d4-44ef-ba79-c35d10014477
X-WR-CALNAME:JCal Pro Calendar
X-WR-CALDESC:Your online events calendar
X-WR-TIMEZONE:Europe/London
BEGIN:VTIMEZONE
TZID:Europe/London
BEGIN:STANDARD
TZNAME:GMT
DTSTART:20251026T020000
TZOFFSETFROM:+0100
TZOFFSETTO:+0000
RDATE:20261025T020000
END:STANDARD
BEGIN:DAYLIGHT
TZNAME:BST
DTSTART:20260329T010000
TZOFFSETFROM:+0000
TZOFFSETTO:+0100
RDATE:20270328T010000
END:DAYLIGHT
END:VTIMEZONE
BEGIN:VEVENT
UID:20220718T193000BST-8283FBn3Eh@https://www.olvestonparishhall.co.uk/
DTSTAMP:20260422T124505Z
CATEGORIES:Private Event
CATEGORIES:Public Event
DESCRIPTION:<p>Rehearsal for our forthcoming show Shrek.</p>
DTSTART;TZID=Europe/London:20220718T193000
DTEND;TZID=Europe/London:20220718T220000
SUMMARY:Thornbury Musical Theatre Group
URL:https://www.olvestonparishhall.co.uk/index.php/add-new-event/35-private
 -event/15044-thornbury-musical-theatre-group
X-ALT-DESC;FMTTYPE=TEXT/HTML:<p>Rehearsal for our forthcoming show Shrek.</
 p>
END:VEVENT
END:VCALENDAR
