BEGIN:VCALENDAR
VERSION:2.0
PRODID:-//https://www.olvestonparishhall.co.uk//NONSGML kigkonsult.se iCalc
 reator 2.29.29//
CALSCALE:GREGORIAN
METHOD:PUBLISH
UID:d45efaf4-e958-4e88-9efd-6de05e425c92
X-WR-CALNAME:JCal Pro Calendar
X-WR-CALDESC:Your online events calendar
X-WR-TIMEZONE:Europe/London
BEGIN:VTIMEZONE
TZID:Europe/London
BEGIN:STANDARD
TZNAME:GMT
DTSTART:20251026T020000
TZOFFSETFROM:+0100
TZOFFSETTO:+0000
RDATE:20261025T020000
END:STANDARD
BEGIN:DAYLIGHT
TZNAME:BST
DTSTART:20260329T010000
TZOFFSETFROM:+0000
TZOFFSETTO:+0100
RDATE:20270328T010000
END:DAYLIGHT
END:VTIMEZONE
BEGIN:VEVENT
UID:20230630T140000BST-9721JCl4gj@https://www.olvestonparishhall.co.uk/
DTSTAMP:20260423T085647Z
CATEGORIES:Private Event
DESCRIPTION:<p>Rehearsal for our forthcoming summer production.</p>
DTSTART;TZID=Europe/London:20240630T140000
DTEND;TZID=Europe/London:20240630T170000
SUMMARY:Phoenix Youth Theatre - Rehearsal
URL:https://www.olvestonparishhall.co.uk/index.php/add-new-event/35-private
 -event/18878-phoenix-youth-theatre-rehearsal
X-ALT-DESC;FMTTYPE=TEXT/HTML:<p>Rehearsal for our forthcoming summer produc
 tion.</p>
END:VEVENT
END:VCALENDAR
