BEGIN:VCALENDAR
VERSION:2.0
PRODID:-//https://www.olvestonparishhall.co.uk//NONSGML kigkonsult.se iCalc
 reator 2.29.29//
CALSCALE:GREGORIAN
METHOD:PUBLISH
UID:563f7464-a00d-4b24-a832-bf7f009c75d2
X-WR-CALNAME:JCal Pro Calendar
X-WR-CALDESC:Your online events calendar
X-WR-TIMEZONE:Europe/London
BEGIN:VTIMEZONE
TZID:Europe/London
BEGIN:STANDARD
TZNAME:GMT
DTSTART:20251026T020000
TZOFFSETFROM:+0100
TZOFFSETTO:+0000
RDATE:20261025T020000
END:STANDARD
BEGIN:DAYLIGHT
TZNAME:BST
DTSTART:20260329T010000
TZOFFSETFROM:+0000
TZOFFSETTO:+0100
RDATE:20270328T010000
END:DAYLIGHT
END:VTIMEZONE
BEGIN:VEVENT
UID:20170520T130000UTC-34b2a3@http://www.olvestonparishhall.co.uk/
DTSTAMP:20260419T142945Z
CATEGORIES:Private Event
DESCRIPTION:private event
DTSTART;TZID=Europe/London:20170520T140000
DTEND;TZID=Europe/London:20170521T020000
SUMMARY:wedding reception
URL:https://www.olvestonparishhall.co.uk/index.php/add-new-event/35-private
 -event/4038-wedding-reception
X-ALT-DESC;FMTTYPE=TEXT/HTML:private event
END:VEVENT
END:VCALENDAR
