BEGIN:VCALENDAR
VERSION:2.0
PRODID:-//https://www.olvestonparishhall.co.uk//NONSGML kigkonsult.se iCalc
 reator 2.29.29//
CALSCALE:GREGORIAN
METHOD:PUBLISH
UID:83f3710c-e23d-49ac-91c8-2459ca798452
X-WR-CALNAME:JCal Pro Calendar
X-WR-CALDESC:Your online events calendar
X-WR-TIMEZONE:Europe/London
BEGIN:VTIMEZONE
TZID:Europe/London
BEGIN:STANDARD
TZNAME:GMT
DTSTART:20251026T020000
TZOFFSETFROM:+0100
TZOFFSETTO:+0000
RDATE:20261025T020000
END:STANDARD
BEGIN:DAYLIGHT
TZNAME:BST
DTSTART:20260329T010000
TZOFFSETFROM:+0000
TZOFFSETTO:+0100
RDATE:20270328T010000
END:DAYLIGHT
END:VTIMEZONE
BEGIN:VEVENT
UID:20161007T170000UTC-b74a0c@http://www.olvestonparishhall.co.uk/
DTSTAMP:20260419T151300Z
CATEGORIES:Private Event
DESCRIPTION:Private event
DTSTART;TZID=Europe/London:20161007T180000
DTEND;TZID=Europe/London:20161007T213000
RRULE:FREQ=MONTHLY;COUNT=3;INTERVAL=1;BYDAY=FR;BYSETPOS=1
SUMMARY:U3A Cinema Group meeting
URL:https://www.olvestonparishhall.co.uk/index.php/add-new-event/35-private
 -event/4237-u3a-cinema-group-meeting
X-ALT-DESC;FMTTYPE=TEXT/HTML:Private event
END:VEVENT
END:VCALENDAR
