BEGIN:VCALENDAR
VERSION:2.0
PRODID:-//https://www.olvestonparishhall.co.uk//NONSGML kigkonsult.se iCalc
 reator 2.29.29//
CALSCALE:GREGORIAN
METHOD:PUBLISH
UID:288c8cf2-e0a6-416b-b0bf-b4d9fe8381d7
X-WR-CALNAME:JCal Pro Calendar
X-WR-CALDESC:Your online events calendar
X-WR-TIMEZONE:Europe/London
BEGIN:VTIMEZONE
TZID:Europe/London
BEGIN:STANDARD
TZNAME:GMT
DTSTART:20251026T020000
TZOFFSETFROM:+0100
TZOFFSETTO:+0000
RDATE:20261025T020000
END:STANDARD
BEGIN:DAYLIGHT
TZNAME:BST
DTSTART:20260329T010000
TZOFFSETFROM:+0000
TZOFFSETTO:+0100
RDATE:20270328T010000
END:DAYLIGHT
END:VTIMEZONE
BEGIN:VEVENT
UID:20170311T231500UTC-07ba74@http://www.olvestonparishhall.co.uk/
DTSTAMP:20260423T082225Z
CATEGORIES:Private Event
DESCRIPTION:<p>Tennis Club</p>
DTSTART;TZID=Europe/London:20170312T001500
DTEND;TZID=Europe/London:20170312T051500
SUMMARY:Tennis Club Event
URL:https://www.olvestonparishhall.co.uk/index.php/add-new-event/35-private
 -event/4664-tennis-club-event
X-ALT-DESC;FMTTYPE=TEXT/HTML:<p>Tennis Club</p>
END:VEVENT
END:VCALENDAR
