BEGIN:VCALENDAR
VERSION:2.0
PRODID:-//https://www.olvestonparishhall.co.uk//NONSGML kigkonsult.se iCalc
 reator 2.29.29//
CALSCALE:GREGORIAN
METHOD:PUBLISH
UID:3d79337c-9eb2-4418-ac81-98f9b348c1e4
X-WR-CALNAME:JCal Pro Calendar
X-WR-CALDESC:Your online events calendar
X-WR-TIMEZONE:Europe/London
BEGIN:VTIMEZONE
TZID:Europe/London
BEGIN:STANDARD
TZNAME:GMT
DTSTART:20251026T020000
TZOFFSETFROM:+0100
TZOFFSETTO:+0000
RDATE:20261025T020000
END:STANDARD
BEGIN:DAYLIGHT
TZNAME:BST
DTSTART:20260329T010000
TZOFFSETFROM:+0000
TZOFFSETTO:+0100
RDATE:20270328T010000
END:DAYLIGHT
END:VTIMEZONE
BEGIN:VEVENT
UID:20240608T100000BST-8488eVOHcw@https://www.olvestonparishhall.co.uk/
DTSTAMP:20260423T130420Z
CATEGORIES:Childrens Party - special 3 hour rate
DTSTART;TZID=Europe/London:20240608T100000
DTEND;TZID=Europe/London:20240608T130000
SUMMARY:Private Event
URL:https://www.olvestonparishhall.co.uk/index.php/add-new-event/42-childre
 ns-party/18784-private-event
END:VEVENT
END:VCALENDAR
