BEGIN:VCALENDAR
VERSION:2.0
PRODID:-//https://www.olvestonparishhall.co.uk//NONSGML kigkonsult.se iCalc
 reator 2.29.29//
CALSCALE:GREGORIAN
METHOD:PUBLISH
UID:9acece31-a2a5-43a5-b238-803124263bea
X-WR-CALNAME:JCal Pro Calendar
X-WR-CALDESC:Your online events calendar
X-WR-TIMEZONE:Europe/London
BEGIN:VTIMEZONE
TZID:Europe/London
BEGIN:STANDARD
TZNAME:GMT
DTSTART:20251026T020000
TZOFFSETFROM:+0100
TZOFFSETTO:+0000
RDATE:20261025T020000
END:STANDARD
BEGIN:DAYLIGHT
TZNAME:BST
DTSTART:20260329T010000
TZOFFSETFROM:+0000
TZOFFSETTO:+0100
RDATE:20270328T010000
END:DAYLIGHT
END:VTIMEZONE
BEGIN:VEVENT
UID:20160903T180000UTC-d17f56@http://www.olvestonparishhall.co.uk/
DTSTAMP:20260419T143703Z
CATEGORIES:Childrens Party - special 3 hour rate
DESCRIPTION:<p>Kids</p>
DTSTART;TZID=Europe/London:20160903T190000
DTEND;TZID=Europe/London:20160903T220000
SUMMARY:Children's birthday party
URL:https://www.olvestonparishhall.co.uk/index.php/add-new-event/42-childre
 ns-party/3921-children-s-birthday-party
X-ALT-DESC;FMTTYPE=TEXT/HTML:<p>Kids</p>
END:VEVENT
END:VCALENDAR
