BEGIN:VCALENDAR
VERSION:2.0
PRODID:-//https://www.olvestonparishhall.co.uk//NONSGML kigkonsult.se iCalc
 reator 2.29.29//
CALSCALE:GREGORIAN
METHOD:PUBLISH
UID:8a5d8a70-f911-499c-a719-be3053840ad9
X-WR-CALNAME:JCal Pro Calendar
X-WR-CALDESC:Your online events calendar
X-WR-TIMEZONE:Europe/London
BEGIN:VTIMEZONE
TZID:Europe/London
BEGIN:STANDARD
TZNAME:GMT
DTSTART:20251026T020000
TZOFFSETFROM:+0100
TZOFFSETTO:+0000
RDATE:20261025T020000
END:STANDARD
BEGIN:DAYLIGHT
TZNAME:BST
DTSTART:20260329T010000
TZOFFSETFROM:+0000
TZOFFSETTO:+0100
RDATE:20270328T010000
END:DAYLIGHT
END:VTIMEZONE
BEGIN:VEVENT
UID:20200223T140000UTC-7f61e9@http://www.olvestonparishhall.co.uk/
DTSTAMP:20260419T151633Z
CATEGORIES:Childrens Party - special 3 hour rate
DESCRIPTION:Children's party
DTSTART;TZID=Europe/London:20200223T150000
DTEND;TZID=Europe/London:20200223T180000
SUMMARY:Children???s Party
URL:https://www.olvestonparishhall.co.uk/index.php/add-new-event/42-childre
 ns-party/9143-children-s-party
X-ALT-DESC;FMTTYPE=TEXT/HTML:Children's party
END:VEVENT
END:VCALENDAR
