BEGIN:VCALENDAR
VERSION:2.0
PRODID:-//https://www.olvestonparishhall.co.uk//NONSGML kigkonsult.se iCalc
 reator 2.29.29//
CALSCALE:GREGORIAN
METHOD:PUBLISH
UID:14d48706-5b0c-40df-9749-eb98c50bd30d
X-WR-CALNAME:JCal Pro Calendar
X-WR-CALDESC:Your online events calendar
X-WR-TIMEZONE:Europe/London
BEGIN:VTIMEZONE
TZID:Europe/London
BEGIN:STANDARD
TZNAME:GMT
DTSTART:20251026T020000
TZOFFSETFROM:+0100
TZOFFSETTO:+0000
RDATE:20261025T020000
END:STANDARD
BEGIN:DAYLIGHT
TZNAME:BST
DTSTART:20260329T010000
TZOFFSETFROM:+0000
TZOFFSETTO:+0100
RDATE:20270328T010000
END:DAYLIGHT
END:VTIMEZONE
BEGIN:VEVENT
UID:20150507T101500UTC-e8ca80@http://www.olvestonparishhall.co.uk/
DTSTAMP:20260423T081526Z
CATEGORIES:Public Event
DESCRIPTION:<p>General\, District and Parish Elections</p>\n<p>7am-10pm</p>
DTSTART;TZID=Europe/London:20150507T000000
DTEND;TZID=Europe/London:20150507T235959
SUMMARY:General Election
URL:https://www.olvestonparishhall.co.uk/index.php/add-new-event/34-public-
 event/1551-general-election
X-ALT-DESC;FMTTYPE=TEXT/HTML:<p>General\, District and Parish Elections</p>
 \n<p>7am-10pm</p>
END:VEVENT
BEGIN:VEVENT
UID:20150105T150000UTC-ba7f10@http://www.olvestonparishhall.co.uk/
DTSTAMP:20260423T081526Z
CATEGORIES:Private Event
DESCRIPTION:<p>Table Tennis</p>
DTSTART;TZID=Europe/London:20150105T110000
DTEND;TZID=Europe/London:20150105T120000
RRULE:FREQ=WEEKLY;UNTIL=20210222T000000Z;INTERVAL=1;BYDAY=MO
SUMMARY:Table Tennis
URL:https://www.olvestonparishhall.co.uk/index.php/add-new-event/35-private
 -event/1709-table-tennis
X-ALT-DESC;FMTTYPE=TEXT/HTML:<p>Table Tennis</p>
END:VEVENT
BEGIN:VEVENT
UID:20160919T233000UTC-8d4a90@http://www.olvestonparishhall.co.uk/
DTSTAMP:20260423T081526Z
CATEGORIES:Private Event
DESCRIPTION:<p>PP</p>
DTSTART;TZID=Europe/London:20160920T003000
DTEND;TZID=Europe/London:20160920T030000
RRULE:FREQ=WEEKLY;UNTIL=20170209T000000Z;INTERVAL=1;BYDAY=MO,TH
SUMMARY:Parish Players Rehearsal
URL:https://www.olvestonparishhall.co.uk/index.php/add-new-event/35-private
 -event/3868-parish-players-rehearsal
X-ALT-DESC;FMTTYPE=TEXT/HTML:<p>PP</p>
END:VEVENT
BEGIN:VEVENT
UID:20160907T140000UTC-33a57e@http://www.olvestonparishhall.co.uk/
DTSTAMP:20260423T081526Z
CATEGORIES:Public Event
DESCRIPTION:10 - 11am every wednesday.&nbsp\;Get fit and have fun with lice
 nced Zumba instructor Diesel\, using&nbsp\;a fantastic&nbsp\;variety of mu
 sic and dance styles from all around the world. Wear loose\, comfortable c
 lothing and trainers/dance shoes.&nbsp\;&pound\;4.00\, every 5th class you
  attend free.&nbsp\;Everyone welcome! Contact Diesel for more details on 0
 7437680108
DTSTART;TZID=Europe/London:20170104T160000
DTEND;TZID=Europe/London:20170104T170000
SUMMARY:ZUMBA fitness
URL:https://www.olvestonparishhall.co.uk/index.php/add-new-event/34-public-
 event/4008-zumba-fitness
X-ALT-DESC;FMTTYPE=TEXT/HTML:10 - 11am every wednesday.&nbsp\;Get fit and h
 ave fun with licenced Zumba instructor Diesel\, using&nbsp\;a fantastic&nb
 sp\;variety of music and dance styles from all around the world. Wear loos
 e\, comfortable clothing and trainers/dance shoes.&nbsp\;&pound\;4.00\, ev
 ery 5th class you attend free.&nbsp\;Everyone welcome! Contact Diesel for 
 more details on 07437680108
END:VEVENT
BEGIN:VEVENT
UID:20160914T230000UTC-d05c8b@http://www.olvestonparishhall.co.uk/
DTSTAMP:20260423T081526Z
CATEGORIES:Private Event
DESCRIPTION:<p>Table Tennis 19:00 - 20:30 New players welcome please come a
 long</p>
DTSTART;TZID=Europe/London:20160915T000000
DTEND;TZID=Europe/London:20160915T013000
RRULE:FREQ=WEEKLY;UNTIL=20171220T000000Z;INTERVAL=1;BYDAY=WE
SUMMARY:Table Tennis
URL:https://www.olvestonparishhall.co.uk/index.php/add-new-event/35-private
 -event/4167-table-tennis
X-ALT-DESC;FMTTYPE=TEXT/HTML:<p>Table Tennis 19:00 - 20:30 New players welc
 ome please come along</p>
END:VEVENT
BEGIN:VEVENT
UID:20160422T220000UTC-2198b7@http://www.olvestonparishhall.co.uk/
DTSTAMP:20260423T081526Z
CATEGORIES:Private Event
DESCRIPTION:<p>Private</p>
DTSTART;TZID=Europe/London:20160422T230000
DTEND;TZID=Europe/London:20160423T023000
RRULE:FREQ=WEEKLY;UNTIL=20170210T000000Z;INTERVAL=1;BYDAY=FR
SUMMARY:Dance Lessons
URL:https://www.olvestonparishhall.co.uk/index.php/add-new-event/35-private
 -event/3827-dance-lessons
X-ALT-DESC;FMTTYPE=TEXT/HTML:<p>Private</p>
END:VEVENT
BEGIN:VEVENT
UID:20150912T130000UTC-cf0009@http://www.olvestonparishhall.co.uk/
DTSTAMP:20260423T081526Z
CATEGORIES:Private Event
DESCRIPTION:<p>Baby Ballet</p>\n<p>Dance Class and Movement class from 6 Mo
 nths to 6 Years</p>\n<p>Contact <span id='cloak19395f1269939dd3932bd2e8595
 3d4f3'>This email address is being protected from spambots. You need JavaS
 cript enabled to view it.</span><script type='text/javascript'>
				document.ge
 tElementById('cloak19395f1269939dd3932bd2e85953d4f3').innerHTML = ''\;
				var 
 prefix = '&#109\;a' + 'i&#108\;' + '&#116\;o'\;
				var path = 'hr' + 'ef' + '=
 '\;
				var addy19395f1269939dd3932bd2e85953d4f3 = 'br&#97\;dl&#101\;yst&#111\;
 k&#101\;' + '&#64\;'\;
				addy19395f1269939dd3932bd2e85953d4f3 = addy19395f126
 9939dd3932bd2e85953d4f3 + 'b&#97\;byb&#97\;ll&#101\;t' + '&#46\;' + 'c&#11
 1\;' + '&#46\;' + '&#117\;k'\;
				var addy_text19395f1269939dd3932bd2e85953d4f
 3 = 'br&#97\;dl&#101\;yst&#111\;k&#101\;' + '&#64\;' + 'b&#97\;byb&#97\;ll
 &#101\;t' + '&#46\;' + 'c&#111\;' + '&#46\;' + '&#117\;k'\;document.getEle
 mentById('cloak19395f1269939dd3932bd2e85953d4f3').innerHTML += '<a ' + pat
 h + '\'' + prefix + ':' + addy19395f1269939dd3932bd2e85953d4f3 + '\'>'+add
 y_text19395f1269939dd3932bd2e85953d4f3+'<\/a>'\;
		</script></p>
DTSTART;TZID=Europe/London:20150912T140000
DTEND;TZID=Europe/London:20150912T171500
RRULE:FREQ=WEEKLY;UNTIL=20171219T000000Z;INTERVAL=1;BYDAY=SA
SUMMARY:Baby Ballet
URL:https://www.olvestonparishhall.co.uk/index.php/add-new-event/35-private
 -event/2952-baby-ballet
X-ALT-DESC;FMTTYPE=TEXT/HTML:<p>Baby Ballet</p>\n<p>Dance Class and Movemen
 t class from 6 Months to 6 Years</p>\n<p>Contact <span id='cloak19395f1269
 939dd3932bd2e85953d4f3'>This email address is being protected from spambot
 s. You need JavaScript enabled to view it.</span><script type='text/javasc
 ript'>
				document.getElementById('cloak19395f1269939dd3932bd2e85953d4f3').inn
 erHTML = ''\;
				var prefix = '&#109\;a' + 'i&#108\;' + '&#116\;o'\;
				var path =
  'hr' + 'ef' + '='\;
				var addy19395f1269939dd3932bd2e85953d4f3 = 'br&#97\;dl
 &#101\;yst&#111\;k&#101\;' + '&#64\;'\;
				addy19395f1269939dd3932bd2e85953d4f
 3 = addy19395f1269939dd3932bd2e85953d4f3 + 'b&#97\;byb&#97\;ll&#101\;t' + 
 '&#46\;' + 'c&#111\;' + '&#46\;' + '&#117\;k'\;
				var addy_text19395f1269939d
 d3932bd2e85953d4f3 = 'br&#97\;dl&#101\;yst&#111\;k&#101\;' + '&#64\;' + 'b
 &#97\;byb&#97\;ll&#101\;t' + '&#46\;' + 'c&#111\;' + '&#46\;' + '&#117\;k'
 \;document.getElementById('cloak19395f1269939dd3932bd2e85953d4f3').innerHT
 ML += '<a ' + path + '\'' + prefix + ':' + addy19395f1269939dd3932bd2e8595
 3d4f3 + '\'>'+addy_text19395f1269939dd3932bd2e85953d4f3+'<\/a>'\;
		</script>
 </p>
END:VEVENT
BEGIN:VEVENT
UID:20170115T140000UTC-b56252@http://www.olvestonparishhall.co.uk/
DTSTAMP:20260423T081526Z
CATEGORIES:Private Event
DESCRIPTION:<p>Dance</p>
DTSTART;TZID=Europe/London:20170115T150000
DTEND;TZID=Europe/London:20170115T160000
SUMMARY:Dance Practice
URL:https://www.olvestonparishhall.co.uk/index.php/add-new-event/35-private
 -event/4662-dance-practice
X-ALT-DESC;FMTTYPE=TEXT/HTML:<p>Dance</p>
END:VEVENT
BEGIN:VEVENT
UID:20170115T190000UTC-c18d1a@http://www.olvestonparishhall.co.uk/
DTSTAMP:20260423T081526Z
CATEGORIES:Private Event
DESCRIPTION:<p>Run through for Parish Players</p>
DTSTART;TZID=Europe/London:20170115T200000
DTEND;TZID=Europe/London:20170115T230000
SUMMARY:Parish Players rehearsal
URL:https://www.olvestonparishhall.co.uk/index.php/add-new-event/35-private
 -event/4661-parish-players-rehearsal
X-ALT-DESC;FMTTYPE=TEXT/HTML:<p>Run through for Parish Players</p>
END:VEVENT
BEGIN:VEVENT
UID:20160907T140000UTC-33a57e@http://www.olvestonparishhall.co.uk/
DTSTAMP:20260423T081526Z
CATEGORIES:Public Event
DESCRIPTION:10 - 11am every wednesday.&nbsp\;Get fit and have fun with lice
 nced Zumba instructor Diesel\, using&nbsp\;a fantastic&nbsp\;variety of mu
 sic and dance styles from all around the world. Wear loose\, comfortable c
 lothing and trainers/dance shoes.&nbsp\;&pound\;4.00\, every 5th class you
  attend free.&nbsp\;Everyone welcome! Contact Diesel for more details on 0
 7437680108
DTSTART;TZID=Europe/London:20170118T160000
DTEND;TZID=Europe/London:20170118T170000
SUMMARY:ZUMBA fitness
URL:https://www.olvestonparishhall.co.uk/index.php/add-new-event/34-public-
 event/4010-zumba-fitness
X-ALT-DESC;FMTTYPE=TEXT/HTML:10 - 11am every wednesday.&nbsp\;Get fit and h
 ave fun with licenced Zumba instructor Diesel\, using&nbsp\;a fantastic&nb
 sp\;variety of music and dance styles from all around the world. Wear loos
 e\, comfortable clothing and trainers/dance shoes.&nbsp\;&pound\;4.00\, ev
 ery 5th class you attend free.&nbsp\;Everyone welcome! Contact Diesel for 
 more details on 07437680108
END:VEVENT
BEGIN:VEVENT
UID:20161211T070500UTC-d40a81@http://www.olvestonparishhall.co.uk/
DTSTAMP:20260423T081526Z
CATEGORIES:Public Event
DESCRIPTION:<p>A fun and friendly art and crafts group for children aged 5 
 to 11 years old. Exciting new themes every session with lots of ways to ex
 plore art through play. Everyone welcome.</p>\n<p>Join us at the hall from
  2.30 to 4 pm for puppet and puppet theatre making. ??3 per family inc dri
 nk and biscuit. Parent/carers must supervise their children. Please bring 
 along a plain brown card board box if you wish to make your own theatre. L
 ots of fun to be had!</p>\n<p>Please note parents/careers must stay and su
 pervise child/children throughout session.</p>\n<p>email:&nbsp\;<span id='
 cloakb1141337fe891b208dad66851e0e4207'>This email address is being protect
 ed from spambots. You need JavaScript enabled to view it.</span><script ty
 pe='text/javascript'>
				document.getElementById('cloakb1141337fe891b208dad668
 51e0e4207').innerHTML = ''\;
				var prefix = '&#109\;a' + 'i&#108\;' + '&#116\
 ;o'\;
				var path = 'hr' + 'ef' + '='\;
				var addyb1141337fe891b208dad66851e0e420
 7 = '&#111\;lv&#101\;st&#111\;n&#97\;rt&#105\;&#101\;s' + '&#64\;'\;
				addyb1
 141337fe891b208dad66851e0e4207 = addyb1141337fe891b208dad66851e0e4207 + '&
 #111\;&#117\;tl&#111\;&#111\;k' + '&#46\;' + 'c&#111\;m'\;
				var addy_textb11
 41337fe891b208dad66851e0e4207 = '&nbsp\;'\;document.getElementById('cloakb
 1141337fe891b208dad66851e0e4207').innerHTML += '<a ' + path + '\'' + prefi
 x + ':' + addyb1141337fe891b208dad66851e0e4207 + '\'>'+addy_textb1141337fe
 891b208dad66851e0e4207+'<\/a>'\;
		</script><span id='cloak85410785a9453126fd
 c08d5b705a29ed'>This email address is being protected from spambots. You n
 eed JavaScript enabled to view it.</span><script type='text/javascript'>
				do
 cument.getElementById('cloak85410785a9453126fdc08d5b705a29ed').innerHTML =
  ''\;
				var prefix = '&#109\;a' + 'i&#108\;' + '&#116\;o'\;
				var path = 'hr' + 
 'ef' + '='\;
				var addy85410785a9453126fdc08d5b705a29ed = '&#111\;lv&#101\;st
 &#111\;n&#97\;rt&#105\;&#101\;s' + '&#64\;'\;
				addy85410785a9453126fdc08d5b7
 05a29ed = addy85410785a9453126fdc08d5b705a29ed + '&#111\;&#117\;tl&#111\;&
 #111\;k' + '&#46\;' + 'c&#111\;m'\;
				var addy_text85410785a9453126fdc08d5b70
 5a29ed = '&#111\;lv&#101\;st&#111\;n&#97\;rt&#105\;&#101\;s' + '&#64\;' + 
 '&#111\;&#117\;tl&#111\;&#111\;k' + '&#46\;' + 'c&#111\;m'\;document.getEl
 ementById('cloak85410785a9453126fdc08d5b705a29ed').innerHTML += '<a ' + pa
 th + '\'' + prefix + ':' + addy85410785a9453126fdc08d5b705a29ed + '\'>'+ad
 dy_text85410785a9453126fdc08d5b705a29ed+'<\/a>'\;
		</script></p>
DTSTART;TZID=Europe/London:20170121T080500
DTEND;TZID=Europe/London:20170121T110500
SUMMARY:Olveston Arties
URL:https://www.olvestonparishhall.co.uk/index.php/add-new-event/34-public-
 event/4318-olveston-arties
X-ALT-DESC;FMTTYPE=TEXT/HTML:<p>A fun and friendly art and crafts group for
  children aged 5 to 11 years old. Exciting new themes every session with l
 ots of ways to explore art through play. Everyone welcome.</p>\n<p>Join us
  at the hall from 2.30 to 4 pm for puppet and puppet theatre making. ??3 p
 er family inc drink and biscuit. Parent/carers must supervise their childr
 en. Please bring along a plain brown card board box if you wish to make yo
 ur own theatre. Lots of fun to be had!</p>\n<p>Please note parents/careers
  must stay and supervise child/children throughout session.</p>\n<p>email:
 &nbsp\;<span id='cloakb1141337fe891b208dad66851e0e4207'>This email address
  is being protected from spambots. You need JavaScript enabled to view it.
 </span><script type='text/javascript'>
				document.getElementById('cloakb11413
 37fe891b208dad66851e0e4207').innerHTML = ''\;
				var prefix = '&#109\;a' + 'i&
 #108\;' + '&#116\;o'\;
				var path = 'hr' + 'ef' + '='\;
				var addyb1141337fe891b
 208dad66851e0e4207 = '&#111\;lv&#101\;st&#111\;n&#97\;rt&#105\;&#101\;s' +
  '&#64\;'\;
				addyb1141337fe891b208dad66851e0e4207 = addyb1141337fe891b208dad
 66851e0e4207 + '&#111\;&#117\;tl&#111\;&#111\;k' + '&#46\;' + 'c&#111\;m'\
 ;
				var addy_textb1141337fe891b208dad66851e0e4207 = '&nbsp\;'\;document.getEl
 ementById('cloakb1141337fe891b208dad66851e0e4207').innerHTML += '<a ' + pa
 th + '\'' + prefix + ':' + addyb1141337fe891b208dad66851e0e4207 + '\'>'+ad
 dy_textb1141337fe891b208dad66851e0e4207+'<\/a>'\;
		</script><span id='cloak8
 5410785a9453126fdc08d5b705a29ed'>This email address is being protected fro
 m spambots. You need JavaScript enabled to view it.</span><script type='te
 xt/javascript'>
				document.getElementById('cloak85410785a9453126fdc08d5b705a2
 9ed').innerHTML = ''\;
				var prefix = '&#109\;a' + 'i&#108\;' + '&#116\;o'\;
				v
 ar path = 'hr' + 'ef' + '='\;
				var addy85410785a9453126fdc08d5b705a29ed = '&
 #111\;lv&#101\;st&#111\;n&#97\;rt&#105\;&#101\;s' + '&#64\;'\;
				addy85410785
 a9453126fdc08d5b705a29ed = addy85410785a9453126fdc08d5b705a29ed + '&#111\;
 &#117\;tl&#111\;&#111\;k' + '&#46\;' + 'c&#111\;m'\;
				var addy_text85410785a
 9453126fdc08d5b705a29ed = '&#111\;lv&#101\;st&#111\;n&#97\;rt&#105\;&#101\
 ;s' + '&#64\;' + '&#111\;&#117\;tl&#111\;&#111\;k' + '&#46\;' + 'c&#111\;m
 '\;document.getElementById('cloak85410785a9453126fdc08d5b705a29ed').innerH
 TML += '<a ' + path + '\'' + prefix + ':' + addy85410785a9453126fdc08d5b70
 5a29ed + '\'>'+addy_text85410785a9453126fdc08d5b705a29ed+'<\/a>'\;
		</script
 ></p>
END:VEVENT
BEGIN:VEVENT
UID:20170122T190000UTC-57d243@http://www.olvestonparishhall.co.uk/
DTSTAMP:20260423T081526Z
CATEGORIES:Public Event
DESCRIPTION:<p>Run through rehearsal</p>
DTSTART;TZID=Europe/London:20170122T200000
DTEND;TZID=Europe/London:20170123T000000
SUMMARY:Parish Players rehearsal
URL:https://www.olvestonparishhall.co.uk/index.php/add-new-event/34-public-
 event/4313-parish-players-rehearsal
X-ALT-DESC;FMTTYPE=TEXT/HTML:<p>Run through rehearsal</p>
END:VEVENT
BEGIN:VEVENT
UID:20160907T140000UTC-33a57e@http://www.olvestonparishhall.co.uk/
DTSTAMP:20260423T081526Z
CATEGORIES:Public Event
DESCRIPTION:10 - 11am every wednesday.&nbsp\;Get fit and have fun with lice
 nced Zumba instructor Diesel\, using&nbsp\;a fantastic&nbsp\;variety of mu
 sic and dance styles from all around the world. Wear loose\, comfortable c
 lothing and trainers/dance shoes.&nbsp\;&pound\;4.00\, every 5th class you
  attend free.&nbsp\;Everyone welcome! Contact Diesel for more details on 0
 7437680108
DTSTART;TZID=Europe/London:20170125T160000
DTEND;TZID=Europe/London:20170125T170000
SUMMARY:ZUMBA fitness
URL:https://www.olvestonparishhall.co.uk/index.php/add-new-event/34-public-
 event/4011-zumba-fitness
X-ALT-DESC;FMTTYPE=TEXT/HTML:10 - 11am every wednesday.&nbsp\;Get fit and h
 ave fun with licenced Zumba instructor Diesel\, using&nbsp\;a fantastic&nb
 sp\;variety of music and dance styles from all around the world. Wear loos
 e\, comfortable clothing and trainers/dance shoes.&nbsp\;&pound\;4.00\, ev
 ery 5th class you attend free.&nbsp\;Everyone welcome! Contact Diesel for 
 more details on 07437680108
END:VEVENT
BEGIN:VEVENT
UID:20170128T153000UTC-d2c977@http://www.olvestonparishhall.co.uk/
DTSTAMP:20260423T081526Z
CATEGORIES:Public Event
DESCRIPTION:<p>The Parish currently has a vacancy for a new Councillor\, th
 ere is also a possibility that a further vacancy may arise in the New Year
 . This is an ideal opportunity for parishioners to meet their Parish Counc
 illors on an informal basis\, to found out what is done on their behalf an
 d what being a Parish Councillor really means. The Parish Council is holdi
 ng this 'drop-in' session with doors opening at 11:00 until nominally 13:0
 0\, and parishioners are welcome throughout. There are no costs involved\,
  and the Council may be providing some refreshments.</p>
DTSTART;TZID=Europe/London:20170128T193000
DTEND;TZID=Europe/London:20170128T213000
SUMMARY:Meet the Parish Councillors
URL:https://www.olvestonparishhall.co.uk/index.php/add-new-event/34-public-
 event/4319-meet-the-parish-councillors
X-ALT-DESC;FMTTYPE=TEXT/HTML:<p>The Parish currently has a vacancy for a ne
 w Councillor\, there is also a possibility that a further vacancy may aris
 e in the New Year. This is an ideal opportunity for parishioners to meet t
 heir Parish Councillors on an informal basis\, to found out what is done o
 n their behalf and what being a Parish Councillor really means. The Parish
  Council is holding this 'drop-in' session with doors opening at 11:00 unt
 il nominally 13:00\, and parishioners are welcome throughout. There are no
  costs involved\, and the Council may be providing some refreshments.</p>
END:VEVENT
BEGIN:VEVENT
UID:20170131T143000UTC-47ae79@http://www.olvestonparishhall.co.uk/
DTSTAMP:20260423T081526Z
CATEGORIES:Private Event
DESCRIPTION:<p>u3A</p>
DTSTART;TZID=Europe/London:20170131T153000
DTEND;TZID=Europe/London:20170131T183000
SUMMARY:Hand book distribution
URL:https://www.olvestonparishhall.co.uk/index.php/add-new-event/35-private
 -event/4042-hand-book-distribution
X-ALT-DESC;FMTTYPE=TEXT/HTML:<p>u3A</p>
END:VEVENT
BEGIN:VEVENT
UID:20170131T143000UTC-5171f1@http://www.olvestonparishhall.co.uk/
DTSTAMP:20260423T081526Z
CATEGORIES:Private Event
DESCRIPTION:HAndbook
DTSTART;TZID=Europe/London:20170131T153000
DTEND;TZID=Europe/London:20170131T183000
SUMMARY:U3A
URL:https://www.olvestonparishhall.co.uk/index.php/add-new-event/35-private
 -event/4187-u3a
X-ALT-DESC;FMTTYPE=TEXT/HTML:HAndbook
END:VEVENT
END:VCALENDAR
