BEGIN:VCALENDAR
VERSION:2.0
PRODID:-//https://www.olvestonparishhall.co.uk//NONSGML kigkonsult.se iCalc
 reator 2.29.29//
CALSCALE:GREGORIAN
METHOD:PUBLISH
UID:12c11e8d-afe7-4444-9e4e-b39e8a9abc8a
X-WR-CALNAME:JCal Pro Calendar
X-WR-CALDESC:Your online events calendar
X-WR-TIMEZONE:Europe/London
BEGIN:VTIMEZONE
TZID:Europe/London
BEGIN:STANDARD
TZNAME:GMT
DTSTART:20251026T020000
TZOFFSETFROM:+0100
TZOFFSETTO:+0000
RDATE:20261025T020000
END:STANDARD
BEGIN:DAYLIGHT
TZNAME:BST
DTSTART:20260329T010000
TZOFFSETFROM:+0000
TZOFFSETTO:+0100
RDATE:20270328T010000
END:DAYLIGHT
END:VTIMEZONE
BEGIN:VEVENT
UID:20150507T101500UTC-e8ca80@http://www.olvestonparishhall.co.uk/
DTSTAMP:20260422T082839Z
CATEGORIES:Public Event
DESCRIPTION:<p>General\, District and Parish Elections</p>\n<p>7am-10pm</p>
DTSTART;TZID=Europe/London:20150507T000000
DTEND;TZID=Europe/London:20150507T235959
SUMMARY:General Election
URL:https://www.olvestonparishhall.co.uk/index.php/add-new-event/34-public-
 event/1551-general-election
X-ALT-DESC;FMTTYPE=TEXT/HTML:<p>General\, District and Parish Elections</p>
 \n<p>7am-10pm</p>
END:VEVENT
BEGIN:VEVENT
UID:20190502T060000UTC-65bd40@http://www.olvestonparishhall.co.uk/
DTSTAMP:20260422T082839Z
CATEGORIES:Public Event
DESCRIPTION:<p>Election</p>
DTSTART;TZID=Europe/London:20190502T000000
DTEND;TZID=Europe/London:20190502T235959
SUMMARY:Election Polling Station
URL:https://www.olvestonparishhall.co.uk/index.php/add-new-event/34-public-
 event/7553-election-polling-station
X-ALT-DESC;FMTTYPE=TEXT/HTML:<p>Election</p>
END:VEVENT
BEGIN:VEVENT
UID:20190523T160000UTC-879517@http://www.olvestonparishhall.co.uk/
DTSTAMP:20260422T082839Z
CATEGORIES:Public Event
DESCRIPTION:<p>Polling station</p>
DTSTART;TZID=Europe/London:20190523T000000
DTEND;TZID=Europe/London:20190523T235959
SUMMARY:European Election Polling Station
URL:https://www.olvestonparishhall.co.uk/index.php/add-new-event/34-public-
 event/8066-european-election-polling-station
X-ALT-DESC;FMTTYPE=TEXT/HTML:<p>Polling station</p>
END:VEVENT
BEGIN:VEVENT
UID:20200507T090000UTC-005ddf@http://www.olvestonparishhall.co.uk/
DTSTAMP:20260422T082839Z
CATEGORIES:Public Event
DESCRIPTION:<p>Polling Station - Local Election</p>
DTSTART;TZID=Europe/London:20200507T000000
DTEND;TZID=Europe/London:20200507T235959
SUMMARY:Polling Station - Local Election
URL:https://www.olvestonparishhall.co.uk/index.php/add-new-event/34-public-
 event/9628-polling-station-local-election
X-ALT-DESC;FMTTYPE=TEXT/HTML:<p>Polling Station - Local Election</p>
END:VEVENT
BEGIN:VEVENT
UID:20210506T200000UTC-b461e0@https://olvestonparishhall.co.uk/
DTSTAMP:20260422T082839Z
CATEGORIES:Public Event
DESCRIPTION:<p>Polling Station</p>
DTSTART;TZID=Europe/London:20210506T000000
DTEND;TZID=Europe/London:20210506T235959
SUMMARY:Polling Station - Local Election
URL:https://www.olvestonparishhall.co.uk/index.php/add-new-event/34-public-
 event/10725-polling-station-local-election
X-ALT-DESC;FMTTYPE=TEXT/HTML:<p>Polling Station</p>
END:VEVENT
BEGIN:VEVENT
UID:20210517T200000UTC-204e0a@https://olvestonparishhall.co.uk/
DTSTAMP:20260422T082839Z
CATEGORIES:Public Event
DESCRIPTION:<p>We are taking bookings from 17th May 2021</p>
DTSTART;TZID=Europe/London:20210517T000000
DTEND;TZID=Europe/London:20210517T235959
SUMMARY:Parish Hall Reopens
URL:https://www.olvestonparishhall.co.uk/index.php/add-new-event/34-public-
 event/10726-parish-hall-reopens
X-ALT-DESC;FMTTYPE=TEXT/HTML:<p>We are taking bookings from 17th May 2021</
 p>
END:VEVENT
BEGIN:VEVENT
UID:20210730T130000UTC-f4a792@https://olvestonparishhall.co.uk/
DTSTAMP:20260422T082839Z
CATEGORIES:Private Event
DESCRIPTION:<p>Private event</p>
DTSTART;TZID=Europe/London:20210730T000000
DTEND;TZID=Europe/London:20210730T235959
SUMMARY:Private Event
URL:https://www.olvestonparishhall.co.uk/index.php/add-new-event/35-private
 -event/12026-private-event
X-ALT-DESC;FMTTYPE=TEXT/HTML:<p>Private event</p>
END:VEVENT
BEGIN:VEVENT
UID:20240108T093000GMT-5839wR8xeW@https://olvestonparishhall.co.uk/
DTSTAMP:20260422T082839Z
CATEGORIES:Private Event
DTSTART;TZID=Europe/London:20240108T093000
DTEND;TZID=Europe/London:20240108T110000
RRULE:FREQ=WEEKLY;UNTIL=20241230T000000Z;INTERVAL=1;BYDAY=MO
SUMMARY:Table Tennis - KP
URL:https://www.olvestonparishhall.co.uk/index.php/add-new-event/35-private
 -event/18115-table-tennis-kp
END:VEVENT
BEGIN:VEVENT
UID:20241007T130000BST-54460v5UMs@https://olvestonparishhall.co.uk/
DTSTAMP:20260422T082839Z
CATEGORIES:Private Event
DTSTART;TZID=Europe/London:20241014T133000
DTEND;TZID=Europe/London:20241014T143000
RRULE:FREQ=WEEKLY;UNTIL=20250330T230000Z;INTERVAL=1;BYDAY=MO
SUMMARY:Mini Athletics
URL:https://www.olvestonparishhall.co.uk/index.php/add-new-event/35-private
 -event/19242-mini-athletics
END:VEVENT
BEGIN:VEVENT
UID:20240930T193000BST-1934BdNRGg@https://olvestonparishhall.co.uk/
DTSTAMP:20260422T082839Z
CATEGORIES:Private Event
DTSTART;TZID=Europe/London:20240916T193000
DTEND;TZID=Europe/London:20240916T220000
RRULE:FREQ=WEEKLY;UNTIL=20241219T000000Z;INTERVAL=1;BYDAY=MO,TH
SUMMARY:Parish Players
URL:https://www.olvestonparishhall.co.uk/index.php/add-new-event/35-private
 -event/18641-parish-players
END:VEVENT
BEGIN:VEVENT
UID:20240102T091500GMT-9180tE6EVC@https://olvestonparishhall.co.uk/
DTSTAMP:20260422T082839Z
CATEGORIES:Private Event
DTSTART;TZID=Europe/London:20240102T091500
DTEND;TZID=Europe/London:20240102T101500
RRULE:FREQ=WEEKLY;UNTIL=20241231T000000Z;INTERVAL=1;BYDAY=TU
SUMMARY:LS Active
URL:https://www.olvestonparishhall.co.uk/index.php/add-new-event/35-private
 -event/17906-ls-active
END:VEVENT
BEGIN:VEVENT
UID:20240109T110000GMT-2897hPoCpD@https://olvestonparishhall.co.uk/
DTSTAMP:20260422T082839Z
CATEGORIES:Private Event
DTSTART;TZID=Europe/London:20240109T110000
DTEND;TZID=Europe/London:20240109T120000
RRULE:FREQ=WEEKLY;UNTIL=20241231T000000Z;INTERVAL=1;BYDAY=TU
SUMMARY:Zumba Gold
URL:https://www.olvestonparishhall.co.uk/index.php/add-new-event/35-private
 -event/18011-zumba-gold
END:VEVENT
BEGIN:VEVENT
UID:20241023T113000BST-9501dwnpLj@https://www.olvestonparishhall.co.uk/
DTSTAMP:20260422T082839Z
CATEGORIES:Private Event
DTSTART;TZID=Europe/London:20240821T113000
DTEND;TZID=Europe/London:20240821T163000
RRULE:FREQ=WEEKLY;UNTIL=20250212T000000Z;INTERVAL=1;BYDAY=WE
SUMMARY:PP Scenery Team
URL:https://www.olvestonparishhall.co.uk/index.php/add-new-event/35-private
 -event/19097-pp-scenery-team
END:VEVENT
BEGIN:VEVENT
UID:20240110T190000GMT-4961vhIvur@https://olvestonparishhall.co.uk/
DTSTAMP:20260422T082839Z
CATEGORIES:Private Event
DTSTART;TZID=Europe/London:20240110T190000
DTEND;TZID=Europe/London:20240110T203000
RRULE:FREQ=WEEKLY;UNTIL=20241218T000000Z;INTERVAL=1;BYDAY=WE
SUMMARY:Table Tennis - JT
URL:https://www.olvestonparishhall.co.uk/index.php/add-new-event/35-private
 -event/18371-table-tennis-jt
END:VEVENT
BEGIN:VEVENT
UID:20240118T070000GMT-7689L8UHDb@https://olvestonparishhall.co.uk/
DTSTAMP:20260422T082839Z
CATEGORIES:Private Event
DTSTART;TZID=Europe/London:20240118T070000
DTEND;TZID=Europe/London:20240118T080000
RRULE:FREQ=WEEKLY;UNTIL=20241224T000000Z;INTERVAL=1;BYDAY=TH
SUMMARY:Pilates
URL:https://www.olvestonparishhall.co.uk/index.php/add-new-event/35-private
 -event/17857-pilates
END:VEVENT
BEGIN:VEVENT
UID:20240620T120000BST-2526tWduwU@https://www.olvestonparishhall.co.uk/
DTSTAMP:20260422T082839Z
CATEGORIES:Private Event
DTSTART;TZID=Europe/London:20240620T120000
DTEND;TZID=Europe/London:20240620T143000
RRULE:FREQ=WEEKLY;UNTIL=20251218T000000Z;INTERVAL=1;BYDAY=TH
SUMMARY:Hall maintenance & cleaning
URL:https://www.olvestonparishhall.co.uk/index.php/add-new-event/35-private
 -event/18996-hall-maintenance-cleaning
END:VEVENT
BEGIN:VEVENT
UID:20240905T100000BST-5897CducZV@https://olvestonparishhall.co.uk/
DTSTAMP:20260422T082839Z
CATEGORIES:Private Event
DTSTART;TZID=Europe/London:20241024T174500
DTEND;TZID=Europe/London:20241024T184500
SUMMARY:Yoga with Stacey
URL:https://www.olvestonparishhall.co.uk/index.php/add-new-event/35-private
 -event/18348-yoga-with-stacey
END:VEVENT
BEGIN:VEVENT
UID:20240913T100000BST-7594JCsLxR@https://olvestonparishhall.co.uk/
DTSTAMP:20260422T082839Z
CATEGORIES:Private Event
DTSTART;TZID=Europe/London:20240913T100000
DTEND;TZID=Europe/London:20240913T110000
RRULE:FREQ=WEEKLY;UNTIL=20241219T000000Z;INTERVAL=1;BYDAY=FR
SUMMARY:TrueBalance Yoga & Pilates
URL:https://www.olvestonparishhall.co.uk/index.php/add-new-event/35-private
 -event/18261-truebalance-yoga-pilates
END:VEVENT
BEGIN:VEVENT
UID:20241025T171500BST-8015pRUtVu@https://www.olvestonparishhall.co.uk/
DTSTAMP:20260422T082839Z
CATEGORIES:Private Event
DTSTART;TZID=Europe/London:20241025T171500
DTEND;TZID=Europe/London:20241025T203000
SUMMARY:MF Martial Arts classes
URL:https://www.olvestonparishhall.co.uk/index.php/add-new-event/35-private
 -event/19272-mf-martial-arts-classes
END:VEVENT
BEGIN:VEVENT
UID:20241026T103000BST-59902LVeP2@https://olvestonparishhall.co.uk/
DTSTAMP:20260422T082839Z
CATEGORIES:Private Event
DESCRIPTION:<p>Meccano club meeting</p>
DTSTART;TZID=Europe/London:20241026T103000
DTEND;TZID=Europe/London:20241026T163000
SUMMARY:SWMC Meccano club meeting (4)
URL:https://www.olvestonparishhall.co.uk/index.php/add-new-event/35-private
 -event/16978-swmc-meccano-club-meeting-4
X-ALT-DESC;FMTTYPE=TEXT/HTML:<p>Meccano club meeting</p>
END:VEVENT
BEGIN:VEVENT
UID:20241026T173000BST-2588P1VMld@https://www.olvestonparishhall.co.uk/
DTSTAMP:20260422T082839Z
CATEGORIES:Private Event
DTSTART;TZID=Europe/London:20241026T170000
DTEND;TZID=Europe/London:20241026T235900
SUMMARY:Private Event
URL:https://www.olvestonparishhall.co.uk/index.php/add-new-event/35-private
 -event/18994-mr
END:VEVENT
BEGIN:VEVENT
UID:20241027T090000GMT-9717sDVMTv@https://www.olvestonparishhall.co.uk/
DTSTAMP:20260422T082839Z
CATEGORIES:Private Event
DTSTART;TZID=Europe/London:20241027T090000
DTEND;TZID=Europe/London:20241027T110000
SUMMARY:Private Clean
URL:https://www.olvestonparishhall.co.uk/index.php/add-new-event/35-private
 -event/18995-private-clean
END:VEVENT
BEGIN:VEVENT
UID:20230713T110000BST-7432VTbJW7@https://www.olvestonparishhall.co.uk/
DTSTAMP:20260422T082839Z
CATEGORIES:Childrens Party - special 3 hour rate
DESCRIPTION:<p>Family get together We attended in December last year</p>
DTSTART;TZID=Europe/London:20241027T110000
DTEND;TZID=Europe/London:20241027T180000
SUMMARY:Private Event
URL:https://www.olvestonparishhall.co.uk/index.php/add-new-event/42-childre
 ns-party/19218-children-s-party
X-ALT-DESC;FMTTYPE=TEXT/HTML:<p>Family get together We attended in December
  last year</p>
END:VEVENT
END:VCALENDAR
